BEGIN:VCALENDAR
VERSION:2.0
PRODID:-//Pikes Peak Soap Box Derby - ECPv6.15.20//NONSGML v1.0//EN
CALSCALE:GREGORIAN
METHOD:PUBLISH
X-WR-CALNAME:Pikes Peak Soap Box Derby
X-ORIGINAL-URL:https://pikespeak.soapboxderby.org
X-WR-CALDESC:Events for Pikes Peak Soap Box Derby
REFRESH-INTERVAL;VALUE=DURATION:PT1H
X-Robots-Tag:noindex
X-PUBLISHED-TTL:PT1H
BEGIN:VTIMEZONE
TZID:UTC
BEGIN:STANDARD
TZOFFSETFROM:+0000
TZOFFSETTO:+0000
TZNAME:UTC
DTSTART:20230101T000000
END:STANDARD
END:VTIMEZONE
BEGIN:VEVENT
DTSTART;TZID=UTC:20240504T090000
DTEND;TZID=UTC:20240504T140000
DTSTAMP:20260420T201955
CREATED:20240402T213827Z
LAST-MODIFIED:20240403T182927Z
UID:2079-1714813200-1714831200@pikespeak.soapboxderby.org
SUMMARY:2024 Calibration Clinic 1
DESCRIPTION:Bring your fully built cars\, with full weights. We will be able to assist in aligning and weighing cars in preparation for the 2024 Pikes Peak Soap Box Derby. We will have specialized tools to educate and guide the process of calibrating your car. We will have limited extra weights\, so bring whatever you have.\n \nWe will be located on the Southwest side of the building.
URL:https://pikespeak.soapboxderby.org/event/2024-calibration-clinic-1/
LOCATION:Family of Christ Lutheran Church\, 675 Baptist Rd\, Colorado Springs\, CO\, 80921\, United States
CATEGORIES:Other
END:VEVENT
BEGIN:VEVENT
DTSTART;TZID=UTC:20240427T090000
DTEND;TZID=UTC:20240427T120000
DTSTAMP:20260420T201955
CREATED:20240402T213827Z
LAST-MODIFIED:20240403T183446Z
UID:2077-1714208400-1714219200@pikespeak.soapboxderby.org
SUMMARY:2024 Build Clinic 2
DESCRIPTION:Bring your kits or fully built car\, weights are not needed unless you have a specific issue. Volunteers will be available to help build Stock or Super Stock cars. \nPlease bring your own tools if possible\, we will have limited availability. \nIf you have any questions message our Facebook page or email pikespeak@soapboxderby.org
URL:https://pikespeak.soapboxderby.org/event/2024-build-clinic-2/
LOCATION:Family of Christ Lutheran Church\, 675 Baptist Rd\, Colorado Springs\, CO\, 80921\, United States
CATEGORIES:Other
END:VEVENT
BEGIN:VEVENT
DTSTART;TZID=UTC:20240413T090000
DTEND;TZID=UTC:20240413T120000
DTSTAMP:20260420T201955
CREATED:20240402T213828Z
LAST-MODIFIED:20240403T183340Z
UID:2075-1712998800-1713009600@pikespeak.soapboxderby.org
SUMMARY:2024 Build Clinic 1
DESCRIPTION:Bring your kits or fully built car\, weights are not needed unless you have a specific issue. Volunteers will be available to help build Stock or Super Stock cars. \nPlease bring your own tools if possible\, we will have limited availability. \nIf you have any questions message our Facebook page or email pikespeak@soapboxderby.org
URL:https://pikespeak.soapboxderby.org/event/2024-build-clinic-1/
LOCATION:Family of Christ Lutheran Church\, 675 Baptist Rd\, Colorado Springs\, CO\, 80921\, United States
CATEGORIES:Other
END:VEVENT
END:VCALENDAR